BEGIN:VCALENDAR
VERSION:2.0
PRODID:-//Children&#039;s Museum of Phoenix - ECPv6.15.20//NONSGML v1.0//EN
CALSCALE:GREGORIAN
METHOD:PUBLISH
X-WR-CALNAME:Children&#039;s Museum of Phoenix
X-ORIGINAL-URL:https://childrensmuseumofphoenix.org
X-WR-CALDESC:Events for Children&#039;s Museum of Phoenix
REFRESH-INTERVAL;VALUE=DURATION:PT1H
X-Robots-Tag:noindex
X-PUBLISHED-TTL:PT1H
BEGIN:VTIMEZONE
TZID:America/Phoenix
BEGIN:STANDARD
TZOFFSETFROM:-0700
TZOFFSETTO:-0700
TZNAME:MST
DTSTART:20250101T000000
END:STANDARD
END:VTIMEZONE
BEGIN:VEVENT
DTSTART;TZID=America/Phoenix:20260423T090000
DTEND;TZID=America/Phoenix:20260423T120000
DTSTAMP:20260423T081318
CREATED:20260319T171331Z
LAST-MODIFIED:20260319T171331Z
UID:10023025-1776934800-1776945600@childrensmuseumofphoenix.org
SUMMARY:Visit the Garden!
DESCRIPTION:Come get curious in the Children’s Garden with our Garden Specialist! Ask all your nature questions\, help us water the plants\, discover new colorful blooms\, and learn what’s alive out there. Who knows\, maybe you’ll spot a new creature while you explore!
URL:https://childrensmuseumofphoenix.org/event/visit-the-garden-3/2026-04-23/
LOCATION:Children’s Museum of Phoenix\, 215 N. 7th Street\, Phoenix\, AZ\, 85034\, United States
END:VEVENT
BEGIN:VEVENT
DTSTART;TZID=America/Phoenix:20260423T090000
DTEND;TZID=America/Phoenix:20260423T130000
DTSTAMP:20260423T081318
CREATED:20260127T203546Z
LAST-MODIFIED:20260414T194310Z
UID:10020253-1776934800-1776949200@childrensmuseumofphoenix.org
SUMMARY:331 Field Trip Attendees
DESCRIPTION:Welcome!
URL:https://childrensmuseumofphoenix.org/event/335-field-trip-attendees-3/
LOCATION:Children’s Museum of Phoenix\, 215 N. 7th Street\, Phoenix\, AZ\, 85034\, United States
END:VEVENT
BEGIN:VEVENT
DTSTART;TZID=America/Phoenix:20260423T090000
DTEND;TZID=America/Phoenix:20260423T160000
DTSTAMP:20260423T081318
CREATED:20260318T205019Z
LAST-MODIFIED:20260409T210257Z
UID:10020336-1776934800-1776960000@childrensmuseumofphoenix.org
SUMMARY:Thing-a-ma-jigs
DESCRIPTION:Using recyclables plus a dash of imagination\, construct a one-of-a-kind masterpiece.
URL:https://childrensmuseumofphoenix.org/event/thing-a-ma-jigs-2/2026-04-23/
LOCATION:Children’s Museum of Phoenix\, 215 N. 7th Street\, Phoenix\, AZ\, 85034\, United States
END:VEVENT
BEGIN:VEVENT
DTSTART;TZID=America/Phoenix:20260423T090000
DTEND;TZID=America/Phoenix:20260423T160000
DTSTAMP:20260423T081318
CREATED:20260318T220920Z
LAST-MODIFIED:20260409T210036Z
UID:10022647-1776934800-1776960000@childrensmuseumofphoenix.org
SUMMARY:"Welcome to My Garden" - Garden Collages!
DESCRIPTION:Using fun materials\, make your very own garden collage as we celebrate the Earth and our “Earth Day Expo” Event on April 22nd in the Children’s Garden!
URL:https://childrensmuseumofphoenix.org/event/welcome-to-my-garden-garden-collages/2026-04-23/
LOCATION:Children’s Museum of Phoenix\, 215 N. 7th Street\, Phoenix\, AZ\, 85034\, United States
END:VEVENT
BEGIN:VEVENT
DTSTART;TZID=America/Phoenix:20260423T090000
DTEND;TZID=America/Phoenix:20260423T160000
DTSTAMP:20260423T081318
CREATED:20260319T175254Z
LAST-MODIFIED:20260401T180609Z
UID:10023106-1776934800-1776960000@childrensmuseumofphoenix.org
SUMMARY:Going\, Going\, Green: Stewards of the Earth
DESCRIPTION:It’s Going\, Going\, Green! Month\, let’s learn about being good stewards of the earth! Visit Star Bar on the 2nd floor to learn about recycling in Phoenix\, how to help animal habitats with a fun matching game\, and more!\n\nGoing\, Going\, Green! programming\, our Cans for Seeds initiative\, and the Earth Day Expo are generously supported by The Ball Foundation!
URL:https://childrensmuseumofphoenix.org/event/going-going-green-stewards-of-the-earth/2026-04-23/
LOCATION:Children’s Museum of Phoenix\, 215 N. 7th Street\, Phoenix\, AZ\, 85034\, United States
END:VEVENT
BEGIN:VEVENT
DTSTART;TZID=America/Phoenix:20260423T093000
DTEND;TZID=America/Phoenix:20260423T101500
DTSTAMP:20260423T081318
CREATED:20260319T203110Z
LAST-MODIFIED:20260401T182846Z
UID:10023619-1776936600-1776939300@childrensmuseumofphoenix.org
SUMMARY:"Mindful Me": A Family Yoga & Mindfulness Class Presented by PLAY
DESCRIPTION:Come discover mindfulness skills that you and your child can learn and share to create happiness\, comfort\, and fun through art and yoga classes put on by PLAY (Play and Learn through Art and Yoga). Each month will have a different focus for you and your little one. This program is geared towards children ages 2-5 and their adult caregiver. \nAdmission into this program is free with paid Museum admission. Space is limited. Please register at admissions upon arrival; first come\, first serve.
URL:https://childrensmuseumofphoenix.org/event/mindful-me-a-family-yoga-mindfulness-class-presented-by-play/
LOCATION:Children’s Museum of Phoenix\, 215 N. 7th Street\, Phoenix\, AZ\, 85034\, United States
END:VEVENT
BEGIN:VEVENT
DTSTART;TZID=America/Phoenix:20260423T103000
DTEND;TZID=America/Phoenix:20260423T124500
DTSTAMP:20260423T081318
CREATED:20260319T184502Z
LAST-MODIFIED:20260319T184502Z
UID:10023597-1776940200-1776948300@childrensmuseumofphoenix.org
SUMMARY:Homemade Salad Dressing with Edible Ed!
DESCRIPTION:Sessions at 10:30am & 12:00pm \nJoin Edible Ed in the KIDchen as he teaches us how to chop up veggies for a salad snack and make our own homemade dressing! We’ll also learn about some herbs and veggies we can sustainably grow at home to add to future delicious salads! \nAdmission into this program is free with paid Museum admission. Space is limited. Please register at admissions upon arrival; first come\, first serve.
URL:https://childrensmuseumofphoenix.org/event/homemade-salad-dressing-with-edible-ed/
LOCATION:Children’s Museum of Phoenix\, 215 N. 7th Street\, Phoenix\, AZ\, 85034\, United States
END:VEVENT
BEGIN:VEVENT
DTSTART;TZID=America/Phoenix:20260423T130000
DTEND;TZID=America/Phoenix:20260423T150000
DTSTAMP:20260423T081318
CREATED:20260319T202520Z
LAST-MODIFIED:20260319T202520Z
UID:10023616-1776949200-1776956400@childrensmuseumofphoenix.org
SUMMARY:DIY Dragonflies!
DESCRIPTION:Learn about dragonflies and make your very own to take home!
URL:https://childrensmuseumofphoenix.org/event/diy-dragonflies/2026-04-23/
LOCATION:Children’s Museum of Phoenix\, 215 N. 7th Street\, Phoenix\, AZ\, 85034\, United States
END:VEVENT
END:VCALENDAR