BEGIN:VCALENDAR
VERSION:2.0
PRODID:-//Children&#039;s Museum of Phoenix - ECPv6.15.20//NONSGML v1.0//EN
CALSCALE:GREGORIAN
METHOD:PUBLISH
X-WR-CALNAME:Children&#039;s Museum of Phoenix
X-ORIGINAL-URL:https://childrensmuseumofphoenix.org
X-WR-CALDESC:Events for Children&#039;s Museum of Phoenix
REFRESH-INTERVAL;VALUE=DURATION:PT1H
X-Robots-Tag:noindex
X-PUBLISHED-TTL:PT1H
BEGIN:VTIMEZONE
TZID:America/Phoenix
BEGIN:STANDARD
TZOFFSETFROM:-0700
TZOFFSETTO:-0700
TZNAME:MST
DTSTART:20250101T000000
END:STANDARD
END:VTIMEZONE
BEGIN:VEVENT
DTSTART;TZID=America/Phoenix:20260425T090000
DTEND;TZID=America/Phoenix:20260425T160000
DTSTAMP:20260425T060701
CREATED:20260318T205019Z
LAST-MODIFIED:20260409T210257Z
UID:10020338-1777107600-1777132800@childrensmuseumofphoenix.org
SUMMARY:Thing-a-ma-jigs
DESCRIPTION:Using recyclables plus a dash of imagination\, construct a one-of-a-kind masterpiece.
URL:https://childrensmuseumofphoenix.org/event/thing-a-ma-jigs-2/2026-04-25/
LOCATION:Children’s Museum of Phoenix\, 215 N. 7th Street\, Phoenix\, AZ\, 85034\, United States
END:VEVENT
BEGIN:VEVENT
DTSTART;TZID=America/Phoenix:20260425T090000
DTEND;TZID=America/Phoenix:20260425T160000
DTSTAMP:20260425T060701
CREATED:20260318T220920Z
LAST-MODIFIED:20260409T210036Z
UID:10022649-1777107600-1777132800@childrensmuseumofphoenix.org
SUMMARY:"Welcome to My Garden" - Garden Collages!
DESCRIPTION:Using fun materials\, make your very own garden collage as we celebrate the Earth and our “Earth Day Expo” Event on April 22nd in the Children’s Garden!
URL:https://childrensmuseumofphoenix.org/event/welcome-to-my-garden-garden-collages/2026-04-25/
LOCATION:Children’s Museum of Phoenix\, 215 N. 7th Street\, Phoenix\, AZ\, 85034\, United States
END:VEVENT
BEGIN:VEVENT
DTSTART;TZID=America/Phoenix:20260425T090000
DTEND;TZID=America/Phoenix:20260425T160000
DTSTAMP:20260425T060701
CREATED:20260319T175254Z
LAST-MODIFIED:20260401T180609Z
UID:10023108-1777107600-1777132800@childrensmuseumofphoenix.org
SUMMARY:Going\, Going\, Green: Stewards of the Earth
DESCRIPTION:It’s Going\, Going\, Green! Month\, let’s learn about being good stewards of the earth! Visit Star Bar on the 2nd floor to learn about recycling in Phoenix\, how to help animal habitats with a fun matching game\, and more!\n\nGoing\, Going\, Green! programming\, our Cans for Seeds initiative\, and the Earth Day Expo are generously supported by The Ball Foundation!
URL:https://childrensmuseumofphoenix.org/event/going-going-green-stewards-of-the-earth/2026-04-25/
LOCATION:Children’s Museum of Phoenix\, 215 N. 7th Street\, Phoenix\, AZ\, 85034\, United States
END:VEVENT
BEGIN:VEVENT
DTSTART;TZID=America/Phoenix:20260425T100000
DTEND;TZID=America/Phoenix:20260425T120000
DTSTAMP:20260425T060701
CREATED:20260319T191622Z
LAST-MODIFIED:20260319T191622Z
UID:10023608-1777111200-1777118400@childrensmuseumofphoenix.org
SUMMARY:Build a Nest
DESCRIPTION:Learn all about the equisite engineering of birds nests! Why do birds build them? What materials do they use? And how can you help protect their nesting habitats? As we explore these clever constructions\, you’ll get the chance to create a nest of your own using repurposed materials. Come learn\, build\, and appreciate the amazing architecture of our feathered friends! \n 
URL:https://childrensmuseumofphoenix.org/event/build-a-nest/2026-04-25/
LOCATION:Children’s Museum of Phoenix\, 215 N. 7th Street\, Phoenix\, AZ\, 85034\, United States
END:VEVENT
BEGIN:VEVENT
DTSTART;TZID=America/Phoenix:20260426T090000
DTEND;TZID=America/Phoenix:20260426T160000
DTSTAMP:20260425T060701
CREATED:20260318T220920Z
LAST-MODIFIED:20260409T210036Z
UID:10022650-1777194000-1777219200@childrensmuseumofphoenix.org
SUMMARY:"Welcome to My Garden" - Garden Collages!
DESCRIPTION:Using fun materials\, make your very own garden collage as we celebrate the Earth and our “Earth Day Expo” Event on April 22nd in the Children’s Garden!
URL:https://childrensmuseumofphoenix.org/event/welcome-to-my-garden-garden-collages/2026-04-26/
LOCATION:Children’s Museum of Phoenix\, 215 N. 7th Street\, Phoenix\, AZ\, 85034\, United States
END:VEVENT
BEGIN:VEVENT
DTSTART;TZID=America/Phoenix:20260426T090000
DTEND;TZID=America/Phoenix:20260426T160000
DTSTAMP:20260425T060701
CREATED:20260319T175254Z
LAST-MODIFIED:20260401T180609Z
UID:10023109-1777194000-1777219200@childrensmuseumofphoenix.org
SUMMARY:Going\, Going\, Green: Stewards of the Earth
DESCRIPTION:It’s Going\, Going\, Green! Month\, let’s learn about being good stewards of the earth! Visit Star Bar on the 2nd floor to learn about recycling in Phoenix\, how to help animal habitats with a fun matching game\, and more!\n\nGoing\, Going\, Green! programming\, our Cans for Seeds initiative\, and the Earth Day Expo are generously supported by The Ball Foundation!
URL:https://childrensmuseumofphoenix.org/event/going-going-green-stewards-of-the-earth/2026-04-26/
LOCATION:Children’s Museum of Phoenix\, 215 N. 7th Street\, Phoenix\, AZ\, 85034\, United States
END:VEVENT
BEGIN:VEVENT
DTSTART;TZID=America/Phoenix:20260427T090000
DTEND;TZID=America/Phoenix:20260427T160000
DTSTAMP:20260425T060701
CREATED:20260401T180854Z
LAST-MODIFIED:20260401T180955Z
UID:10023633-1777280400-1777305600@childrensmuseumofphoenix.org
SUMMARY:Museum CLOSED
DESCRIPTION:The Museum is Closed Today! Come Play & Learn Tuesday-Sunday\, 9am-4pm!
URL:https://childrensmuseumofphoenix.org/event/museum-closed-2/2026-04-27/
LOCATION:Children’s Museum of Phoenix\, 215 N. 7th Street\, Phoenix\, AZ\, 85034\, United States
END:VEVENT
BEGIN:VEVENT
DTSTART;TZID=America/Phoenix:20260428T090000
DTEND;TZID=America/Phoenix:20260428T130000
DTSTAMP:20260425T060701
CREATED:20260127T203901Z
LAST-MODIFIED:20260415T215631Z
UID:10020255-1777366800-1777381200@childrensmuseumofphoenix.org
SUMMARY:327 Field Trip Attendees
DESCRIPTION:Welcome!
URL:https://childrensmuseumofphoenix.org/event/289-field-trip-attendees/
LOCATION:Children’s Museum of Phoenix\, 215 N. 7th Street\, Phoenix\, AZ\, 85034\, United States
END:VEVENT
BEGIN:VEVENT
DTSTART;TZID=America/Phoenix:20260428T090000
DTEND;TZID=America/Phoenix:20260428T160000
DTSTAMP:20260425T060701
CREATED:20260318T205019Z
LAST-MODIFIED:20260409T210257Z
UID:10020339-1777366800-1777392000@childrensmuseumofphoenix.org
SUMMARY:Thing-a-ma-jigs
DESCRIPTION:Using recyclables plus a dash of imagination\, construct a one-of-a-kind masterpiece.
URL:https://childrensmuseumofphoenix.org/event/thing-a-ma-jigs-2/2026-04-28/
LOCATION:Children’s Museum of Phoenix\, 215 N. 7th Street\, Phoenix\, AZ\, 85034\, United States
END:VEVENT
BEGIN:VEVENT
DTSTART;TZID=America/Phoenix:20260428T090000
DTEND;TZID=America/Phoenix:20260428T160000
DTSTAMP:20260425T060701
CREATED:20260318T213315Z
LAST-MODIFIED:20260318T213541Z
UID:10021852-1777366800-1777392000@childrensmuseumofphoenix.org
SUMMARY:Munching Crunching Caterpillars
DESCRIPTION:Learn about the life cycle of butterflies as you create a munching\, crunching caterpillar. Observe real life caterpillars transform into butterflies in the Art Studio!
URL:https://childrensmuseumofphoenix.org/event/munching-crunching-caterpillars/2026-04-28/
LOCATION:Children’s Museum of Phoenix\, 215 N. 7th Street\, Phoenix\, AZ\, 85034\, United States
END:VEVENT
BEGIN:VEVENT
DTSTART;TZID=America/Phoenix:20260428T090000
DTEND;TZID=America/Phoenix:20260428T160000
DTSTAMP:20260425T060701
CREATED:20260319T175254Z
LAST-MODIFIED:20260401T180609Z
UID:10023111-1777366800-1777392000@childrensmuseumofphoenix.org
SUMMARY:Going\, Going\, Green: Stewards of the Earth
DESCRIPTION:It’s Going\, Going\, Green! Month\, let’s learn about being good stewards of the earth! Visit Star Bar on the 2nd floor to learn about recycling in Phoenix\, how to help animal habitats with a fun matching game\, and more!\n\nGoing\, Going\, Green! programming\, our Cans for Seeds initiative\, and the Earth Day Expo are generously supported by The Ball Foundation!
URL:https://childrensmuseumofphoenix.org/event/going-going-green-stewards-of-the-earth/2026-04-28/
LOCATION:Children’s Museum of Phoenix\, 215 N. 7th Street\, Phoenix\, AZ\, 85034\, United States
END:VEVENT
BEGIN:VEVENT
DTSTART;TZID=America/Phoenix:20260428T100000
DTEND;TZID=America/Phoenix:20260428T120000
DTSTAMP:20260425T060701
CREATED:20260416T205003Z
LAST-MODIFIED:20260416T205003Z
UID:10023643-1777370400-1777377600@childrensmuseumofphoenix.org
SUMMARY:Discovery KIDchen: Oil Spill Cleanup
DESCRIPTION:It’s Discovery KIDchen Day! Join us for a hands-on STEAM lesson to explore the science behind oil spills and their impact on the environment. Together\, we’ll walk through the scientific method to understand these spills and learn why respecting our natural resources is so important.
URL:https://childrensmuseumofphoenix.org/event/discovery-kidchen-oil-spill-cleanup/
LOCATION:Children’s Museum of Phoenix\, 215 N. 7th Street\, Phoenix\, AZ\, 85034\, United States
END:VEVENT
BEGIN:VEVENT
DTSTART;TZID=America/Phoenix:20260428T130000
DTEND;TZID=America/Phoenix:20260428T150000
DTSTAMP:20260425T060701
CREATED:20260319T204710Z
LAST-MODIFIED:20260319T204710Z
UID:10023624-1777381200-1777388400@childrensmuseumofphoenix.org
SUMMARY:Mud Mania
DESCRIPTION:It’s currently Mud Season in Vermont! Let’s bring some of that muddy energy to the museum and get messy with mud! Explore the sensations of mud; how cold is it? how wet is it? How does it feel in your hands? How does it feel in your feet? Add some of that mud to some cardstock and create an art piece to remember this muddy season.
URL:https://childrensmuseumofphoenix.org/event/mud-mania/
LOCATION:Children’s Museum of Phoenix\, 215 N. 7th Street\, Phoenix\, AZ\, 85034\, United States
END:VEVENT
BEGIN:VEVENT
DTSTART;TZID=America/Phoenix:20260428T140000
DTEND;TZID=America/Phoenix:20260428T153000
DTSTAMP:20260425T060701
CREATED:20260319T171331Z
LAST-MODIFIED:20260319T171331Z
UID:10023027-1777384800-1777390200@childrensmuseumofphoenix.org
SUMMARY:Visit the Garden!
DESCRIPTION:Come get curious in the Children’s Garden with our Garden Specialist! Ask all your nature questions\, help us water the plants\, discover new colorful blooms\, and learn what’s alive out there. Who knows\, maybe you’ll spot a new creature while you explore!
URL:https://childrensmuseumofphoenix.org/event/visit-the-garden-3/2026-04-28/
LOCATION:Children’s Museum of Phoenix\, 215 N. 7th Street\, Phoenix\, AZ\, 85034\, United States
END:VEVENT
BEGIN:VEVENT
DTSTART;TZID=America/Phoenix:20260429T090000
DTEND;TZID=America/Phoenix:20260429T130000
DTSTAMP:20260425T060701
CREATED:20260127T204015Z
LAST-MODIFIED:20260127T204015Z
UID:10020256-1777453200-1777467600@childrensmuseumofphoenix.org
SUMMARY:318 Field Trip Attendees
DESCRIPTION:Welcome!
URL:https://childrensmuseumofphoenix.org/event/318-field-trip-attendees/
LOCATION:Children’s Museum of Phoenix\, 215 N. 7th Street\, Phoenix\, AZ\, 85034\, United States
END:VEVENT
BEGIN:VEVENT
DTSTART;TZID=America/Phoenix:20260429T090000
DTEND;TZID=America/Phoenix:20260429T160000
DTSTAMP:20260425T060701
CREATED:20260318T205019Z
LAST-MODIFIED:20260409T210257Z
UID:10020340-1777453200-1777478400@childrensmuseumofphoenix.org
SUMMARY:Thing-a-ma-jigs
DESCRIPTION:Using recyclables plus a dash of imagination\, construct a one-of-a-kind masterpiece.
URL:https://childrensmuseumofphoenix.org/event/thing-a-ma-jigs-2/2026-04-29/
LOCATION:Children’s Museum of Phoenix\, 215 N. 7th Street\, Phoenix\, AZ\, 85034\, United States
END:VEVENT
BEGIN:VEVENT
DTSTART;TZID=America/Phoenix:20260429T090000
DTEND;TZID=America/Phoenix:20260429T160000
DTSTAMP:20260425T060701
CREATED:20260318T213315Z
LAST-MODIFIED:20260318T213541Z
UID:10021853-1777453200-1777478400@childrensmuseumofphoenix.org
SUMMARY:Munching Crunching Caterpillars
DESCRIPTION:Learn about the life cycle of butterflies as you create a munching\, crunching caterpillar. Observe real life caterpillars transform into butterflies in the Art Studio!
URL:https://childrensmuseumofphoenix.org/event/munching-crunching-caterpillars/2026-04-29/
LOCATION:Children’s Museum of Phoenix\, 215 N. 7th Street\, Phoenix\, AZ\, 85034\, United States
END:VEVENT
BEGIN:VEVENT
DTSTART;TZID=America/Phoenix:20260429T090000
DTEND;TZID=America/Phoenix:20260429T160000
DTSTAMP:20260425T060701
CREATED:20260319T175254Z
LAST-MODIFIED:20260401T180609Z
UID:10023112-1777453200-1777478400@childrensmuseumofphoenix.org
SUMMARY:Going\, Going\, Green: Stewards of the Earth
DESCRIPTION:It’s Going\, Going\, Green! Month\, let’s learn about being good stewards of the earth! Visit Star Bar on the 2nd floor to learn about recycling in Phoenix\, how to help animal habitats with a fun matching game\, and more!\n\nGoing\, Going\, Green! programming\, our Cans for Seeds initiative\, and the Earth Day Expo are generously supported by The Ball Foundation!
URL:https://childrensmuseumofphoenix.org/event/going-going-green-stewards-of-the-earth/2026-04-29/
LOCATION:Children’s Museum of Phoenix\, 215 N. 7th Street\, Phoenix\, AZ\, 85034\, United States
END:VEVENT
BEGIN:VEVENT
DTSTART;TZID=America/Phoenix:20260429T093000
DTEND;TZID=America/Phoenix:20260429T100000
DTSTAMP:20260425T060701
CREATED:20260416T205213Z
LAST-MODIFIED:20260416T205213Z
UID:10023644-1777455000-1777456800@childrensmuseumofphoenix.org
SUMMARY:Early Connections
DESCRIPTION:Join us this April for our new Early Connections drop‑in program for children three and under. This month we will be bringing the outside inside and doing some ‘Nature Exploration’ in connection to our Going\, Going Green Month! Held in our cozy Under‑3 exhibit\, a program educator will be present to offer age‑appropriate provocations designed to spark curiosity\, invite exploration\, and support early development. This is a relaxed\, come‑as‑you‑are session. Drop in\, follow your child’s lead\, and enjoy a space where you can build social connections while they build early brain connections.
URL:https://childrensmuseumofphoenix.org/event/early-connections-3/
LOCATION:Children’s Museum of Phoenix\, 215 N. 7th Street\, Phoenix\, AZ\, 85034\, United States
END:VEVENT
BEGIN:VEVENT
DTSTART;TZID=America/Phoenix:20260429T103000
DTEND;TZID=America/Phoenix:20260429T121500
DTSTAMP:20260425T060701
CREATED:20260319T182636Z
LAST-MODIFIED:20260409T215349Z
UID:10023541-1777458600-1777464900@childrensmuseumofphoenix.org
SUMMARY:Awakening Creativity: Toddler Music
DESCRIPTION:Sessions at 10:30 & 11:30am \nToddlers & Preschoolers are at the perfect age to begin their music education through singing and instrument play. We will focus on rhythm\, beat\, pitch and audiation while utilizing music for emotional self-regulation and laying the foundation for future literacy and math skills. Sing some classic circus rhymes and songs in music class this week! This program is geared for ages 18 months up to 5 years and their adult caregiver. \nAdmission into this program is free with paid Museum admission. Space is limited. Please register at admissions upon arrival; first come\, first serve.
URL:https://childrensmuseumofphoenix.org/event/awakening-creativity-toddler-music-5/2026-04-29/
LOCATION:Children’s Museum of Phoenix\, 215 N. 7th Street\, Phoenix\, AZ\, 85034\, United States
END:VEVENT
BEGIN:VEVENT
DTSTART;TZID=America/Phoenix:20260429T130000
DTEND;TZID=America/Phoenix:20260429T150000
DTSTAMP:20260425T060701
CREATED:20260319T191622Z
LAST-MODIFIED:20260319T191622Z
UID:10023609-1777467600-1777474800@childrensmuseumofphoenix.org
SUMMARY:Build a Nest
DESCRIPTION:Learn all about the equisite engineering of birds nests! Why do birds build them? What materials do they use? And how can you help protect their nesting habitats? As we explore these clever constructions\, you’ll get the chance to create a nest of your own using repurposed materials. Come learn\, build\, and appreciate the amazing architecture of our feathered friends! \n 
URL:https://childrensmuseumofphoenix.org/event/build-a-nest/2026-04-29/
LOCATION:Children’s Museum of Phoenix\, 215 N. 7th Street\, Phoenix\, AZ\, 85034\, United States
END:VEVENT
BEGIN:VEVENT
DTSTART;TZID=America/Phoenix:20260430T090000
DTEND;TZID=America/Phoenix:20260430T130000
DTSTAMP:20260425T060701
CREATED:20260127T204128Z
LAST-MODIFIED:20260312T175306Z
UID:10020257-1777539600-1777554000@childrensmuseumofphoenix.org
SUMMARY:337 Field Trip Attendees
DESCRIPTION:Welcome!
URL:https://childrensmuseumofphoenix.org/event/304-field-trip-attendees-2/
LOCATION:Children’s Museum of Phoenix\, 215 N. 7th Street\, Phoenix\, AZ\, 85034\, United States
END:VEVENT
BEGIN:VEVENT
DTSTART;TZID=America/Phoenix:20260430T090000
DTEND;TZID=America/Phoenix:20260430T160000
DTSTAMP:20260425T060701
CREATED:20260318T205019Z
LAST-MODIFIED:20260409T210257Z
UID:10020341-1777539600-1777564800@childrensmuseumofphoenix.org
SUMMARY:Thing-a-ma-jigs
DESCRIPTION:Using recyclables plus a dash of imagination\, construct a one-of-a-kind masterpiece.
URL:https://childrensmuseumofphoenix.org/event/thing-a-ma-jigs-2/2026-04-30/
LOCATION:Children’s Museum of Phoenix\, 215 N. 7th Street\, Phoenix\, AZ\, 85034\, United States
END:VEVENT
BEGIN:VEVENT
DTSTART;TZID=America/Phoenix:20260430T090000
DTEND;TZID=America/Phoenix:20260430T160000
DTSTAMP:20260425T060701
CREATED:20260318T213315Z
LAST-MODIFIED:20260318T213541Z
UID:10021854-1777539600-1777564800@childrensmuseumofphoenix.org
SUMMARY:Munching Crunching Caterpillars
DESCRIPTION:Learn about the life cycle of butterflies as you create a munching\, crunching caterpillar. Observe real life caterpillars transform into butterflies in the Art Studio!
URL:https://childrensmuseumofphoenix.org/event/munching-crunching-caterpillars/2026-04-30/
LOCATION:Children’s Museum of Phoenix\, 215 N. 7th Street\, Phoenix\, AZ\, 85034\, United States
END:VEVENT
BEGIN:VEVENT
DTSTART;TZID=America/Phoenix:20260430T090000
DTEND;TZID=America/Phoenix:20260430T160000
DTSTAMP:20260425T060701
CREATED:20260319T175254Z
LAST-MODIFIED:20260401T180609Z
UID:10023113-1777539600-1777564800@childrensmuseumofphoenix.org
SUMMARY:Going\, Going\, Green: Stewards of the Earth
DESCRIPTION:It’s Going\, Going\, Green! Month\, let’s learn about being good stewards of the earth! Visit Star Bar on the 2nd floor to learn about recycling in Phoenix\, how to help animal habitats with a fun matching game\, and more!\n\nGoing\, Going\, Green! programming\, our Cans for Seeds initiative\, and the Earth Day Expo are generously supported by The Ball Foundation!
URL:https://childrensmuseumofphoenix.org/event/going-going-green-stewards-of-the-earth/2026-04-30/
LOCATION:Children’s Museum of Phoenix\, 215 N. 7th Street\, Phoenix\, AZ\, 85034\, United States
END:VEVENT
BEGIN:VEVENT
DTSTART;TZID=America/Phoenix:20260430T100000
DTEND;TZID=America/Phoenix:20260430T150000
DTSTAMP:20260425T060701
CREATED:20260423T192125Z
LAST-MODIFIED:20260423T205325Z
UID:10023785-1777543200-1777561200@childrensmuseumofphoenix.org
SUMMARY:Día De Los Niños Celebrations
DESCRIPTION:¡El 30 de abril es el Día del Niño en México! April 30th is Children’s Day in Mexico! On this special day\, we are reminded that children are an important and integral part of society. Help us celebrate this festive day with the following fun activities: \n\n\nJoin us in the Atrium at 12pm and 2pm for a traditional Piñata bash! The piñata will have special treats and prizes to win while supplies last.\n\n\nPersonal Piñata making: happening all day from 10am-3pm.\n\n\nAdmission into these programs is free with paid Museum admission.
URL:https://childrensmuseumofphoenix.org/event/dia-de-los-ninos-celebrations/
LOCATION:Children’s Museum of Phoenix\, 215 N. 7th Street\, Phoenix\, AZ\, 85034\, United States
ATTACH;FMTTYPE=image/png:https://childrensmuseumofphoenix.org/wp-content/uploads/2026/04/1080x1080-Dia-de-los-ninos2a-scaled.png
END:VEVENT
BEGIN:VEVENT
DTSTART;TZID=America/Phoenix:20260430T103000
DTEND;TZID=America/Phoenix:20260430T124500
DTSTAMP:20260425T060701
CREATED:20260423T192347Z
LAST-MODIFIED:20260423T192624Z
UID:10023786-1777545000-1777553100@childrensmuseumofphoenix.org
SUMMARY:"Awesome Agua Frescas" with Edible Ed
DESCRIPTION:Sessions at 10:30am & 12:00pm \nJoin Edible Ed in the KIDchen for a special Dia De Los Ninos celebration! We will mash\, mix\, and sip your own delicious aguas frescas\, a traditional fruit drink enjoyed across Latin America. This hands-on activity is a tasty way to honor culture\, explore flavors\, and celebrate our kids together. \nAdmission into this program is free with paid Museum admission. Space is limited. Please register at admissions upon arrival; first come\, first serve.
URL:https://childrensmuseumofphoenix.org/event/awesome-agua-frescas-with-edible-ed/
LOCATION:Children’s Museum of Phoenix\, 215 N. 7th Street\, Phoenix\, AZ\, 85034\, United States
END:VEVENT
BEGIN:VEVENT
DTSTART;TZID=America/Phoenix:20260501T090000
DTEND;TZID=America/Phoenix:20260501T130000
DTSTAMP:20260425T060701
CREATED:20260127T204334Z
LAST-MODIFIED:20260414T194856Z
UID:10020258-1777626000-1777640400@childrensmuseumofphoenix.org
SUMMARY:367 Field Trip Attendees
DESCRIPTION:Welcome!
URL:https://childrensmuseumofphoenix.org/event/313-field-trip-attendees-3/
LOCATION:Children’s Museum of Phoenix\, 215 N. 7th Street\, Phoenix\, AZ\, 85034\, United States
END:VEVENT
BEGIN:VEVENT
DTSTART;TZID=America/Phoenix:20260501T090000
DTEND;TZID=America/Phoenix:20260501T160000
DTSTAMP:20260425T060701
CREATED:20260318T213315Z
LAST-MODIFIED:20260318T213541Z
UID:10021855-1777626000-1777651200@childrensmuseumofphoenix.org
SUMMARY:Munching Crunching Caterpillars
DESCRIPTION:Learn about the life cycle of butterflies as you create a munching\, crunching caterpillar. Observe real life caterpillars transform into butterflies in the Art Studio!
URL:https://childrensmuseumofphoenix.org/event/munching-crunching-caterpillars/2026-05-01/
LOCATION:Children’s Museum of Phoenix\, 215 N. 7th Street\, Phoenix\, AZ\, 85034\, United States
END:VEVENT
BEGIN:VEVENT
DTSTART;TZID=America/Phoenix:20260501T090000
DTEND;TZID=America/Phoenix:20260501T160000
DTSTAMP:20260425T060701
CREATED:20260421T215542Z
LAST-MODIFIED:20260421T220630Z
UID:10023645-1777626000-1777651200@childrensmuseumofphoenix.org
SUMMARY:Thing-a-ma-jigs
DESCRIPTION:Using recyclables plus a dash of imagination\, construct a one-of-a-kind masterpiece.
URL:https://childrensmuseumofphoenix.org/event/thing-a-ma-jigs-3/2026-05-01/
LOCATION:Children’s Museum of Phoenix\, 215 N. 7th Street\, Phoenix\, AZ\, 85034\, United States
END:VEVENT
END:VCALENDAR