BEGIN:VCALENDAR
VERSION:2.0
PRODID:-//Children&#039;s Museum of Phoenix - ECPv6.15.20//NONSGML v1.0//EN
CALSCALE:GREGORIAN
METHOD:PUBLISH
X-WR-CALNAME:Children&#039;s Museum of Phoenix
X-ORIGINAL-URL:https://childrensmuseumofphoenix.org
X-WR-CALDESC:Events for Children&#039;s Museum of Phoenix
REFRESH-INTERVAL;VALUE=DURATION:PT1H
X-Robots-Tag:noindex
X-PUBLISHED-TTL:PT1H
BEGIN:VTIMEZONE
TZID:America/Phoenix
BEGIN:STANDARD
TZOFFSETFROM:-0700
TZOFFSETTO:-0700
TZNAME:MST
DTSTART:20250101T000000
END:STANDARD
END:VTIMEZONE
BEGIN:VEVENT
DTSTART;TZID=America/Phoenix:20260515T160000
DTEND;TZID=America/Phoenix:20260515T190000
DTSTAMP:20260419T094617
CREATED:20260102T230104Z
LAST-MODIFIED:20260105T162428Z
UID:10020121-1778860800-1778871600@childrensmuseumofphoenix.org
SUMMARY:Members-Only Extended Play Hours
DESCRIPTION:Members-Only Extended Play Hours take place on the third Friday of each month\, from 4pm-7pm. \nJoin today and begin receiving benefits like this\, and so much more right away!
URL:https://childrensmuseumofphoenix.org/event/members-only-extended-play-hours-2/2026-05-15/
LOCATION:Children’s Museum of Phoenix\, 215 N. 7th Street\, Phoenix\, AZ\, 85034\, United States
END:VEVENT
BEGIN:VEVENT
DTSTART;TZID=America/Phoenix:20260619T160000
DTEND;TZID=America/Phoenix:20260619T190000
DTSTAMP:20260419T094617
CREATED:20260102T230104Z
LAST-MODIFIED:20260105T162428Z
UID:10020122-1781884800-1781895600@childrensmuseumofphoenix.org
SUMMARY:Members-Only Extended Play Hours
DESCRIPTION:Members-Only Extended Play Hours take place on the third Friday of each month\, from 4pm-7pm. \nJoin today and begin receiving benefits like this\, and so much more right away!
URL:https://childrensmuseumofphoenix.org/event/members-only-extended-play-hours-2/2026-06-19/
LOCATION:Children’s Museum of Phoenix\, 215 N. 7th Street\, Phoenix\, AZ\, 85034\, United States
END:VEVENT
BEGIN:VEVENT
DTSTART;TZID=America/Phoenix:20260717T160000
DTEND;TZID=America/Phoenix:20260717T190000
DTSTAMP:20260419T094617
CREATED:20260102T230104Z
LAST-MODIFIED:20260105T162428Z
UID:10020123-1784304000-1784314800@childrensmuseumofphoenix.org
SUMMARY:Members-Only Extended Play Hours
DESCRIPTION:Members-Only Extended Play Hours take place on the third Friday of each month\, from 4pm-7pm. \nJoin today and begin receiving benefits like this\, and so much more right away!
URL:https://childrensmuseumofphoenix.org/event/members-only-extended-play-hours-2/2026-07-17/
LOCATION:Children’s Museum of Phoenix\, 215 N. 7th Street\, Phoenix\, AZ\, 85034\, United States
END:VEVENT
BEGIN:VEVENT
DTSTART;TZID=America/Phoenix:20260821T160000
DTEND;TZID=America/Phoenix:20260821T190000
DTSTAMP:20260419T094617
CREATED:20260102T230104Z
LAST-MODIFIED:20260105T162428Z
UID:10020124-1787328000-1787338800@childrensmuseumofphoenix.org
SUMMARY:Members-Only Extended Play Hours
DESCRIPTION:Members-Only Extended Play Hours take place on the third Friday of each month\, from 4pm-7pm. \nJoin today and begin receiving benefits like this\, and so much more right away!
URL:https://childrensmuseumofphoenix.org/event/members-only-extended-play-hours-2/2026-08-21/
LOCATION:Children’s Museum of Phoenix\, 215 N. 7th Street\, Phoenix\, AZ\, 85034\, United States
END:VEVENT
BEGIN:VEVENT
DTSTART;TZID=America/Phoenix:20260918T160000
DTEND;TZID=America/Phoenix:20260918T190000
DTSTAMP:20260419T094617
CREATED:20260102T230104Z
LAST-MODIFIED:20260105T162428Z
UID:10020125-1789747200-1789758000@childrensmuseumofphoenix.org
SUMMARY:Members-Only Extended Play Hours
DESCRIPTION:Members-Only Extended Play Hours take place on the third Friday of each month\, from 4pm-7pm. \nJoin today and begin receiving benefits like this\, and so much more right away!
URL:https://childrensmuseumofphoenix.org/event/members-only-extended-play-hours-2/2026-09-18/
LOCATION:Children’s Museum of Phoenix\, 215 N. 7th Street\, Phoenix\, AZ\, 85034\, United States
END:VEVENT
BEGIN:VEVENT
DTSTART;TZID=America/Phoenix:20261016T160000
DTEND;TZID=America/Phoenix:20261016T190000
DTSTAMP:20260419T094617
CREATED:20260102T230104Z
LAST-MODIFIED:20260105T162428Z
UID:10020126-1792166400-1792177200@childrensmuseumofphoenix.org
SUMMARY:Members-Only Extended Play Hours
DESCRIPTION:Members-Only Extended Play Hours take place on the third Friday of each month\, from 4pm-7pm. \nJoin today and begin receiving benefits like this\, and so much more right away!
URL:https://childrensmuseumofphoenix.org/event/members-only-extended-play-hours-2/2026-10-16/
LOCATION:Children’s Museum of Phoenix\, 215 N. 7th Street\, Phoenix\, AZ\, 85034\, United States
END:VEVENT
BEGIN:VEVENT
DTSTART;TZID=America/Phoenix:20261120T160000
DTEND;TZID=America/Phoenix:20261120T190000
DTSTAMP:20260419T094617
CREATED:20260102T230104Z
LAST-MODIFIED:20260105T162428Z
UID:10020127-1795190400-1795201200@childrensmuseumofphoenix.org
SUMMARY:Members-Only Extended Play Hours
DESCRIPTION:Members-Only Extended Play Hours take place on the third Friday of each month\, from 4pm-7pm. \nJoin today and begin receiving benefits like this\, and so much more right away!
URL:https://childrensmuseumofphoenix.org/event/members-only-extended-play-hours-2/2026-11-20/
LOCATION:Children’s Museum of Phoenix\, 215 N. 7th Street\, Phoenix\, AZ\, 85034\, United States
END:VEVENT
BEGIN:VEVENT
DTSTART;TZID=America/Phoenix:20261218T160000
DTEND;TZID=America/Phoenix:20261218T190000
DTSTAMP:20260419T094617
CREATED:20260102T230104Z
LAST-MODIFIED:20260105T162428Z
UID:10020128-1797609600-1797620400@childrensmuseumofphoenix.org
SUMMARY:Members-Only Extended Play Hours
DESCRIPTION:Members-Only Extended Play Hours take place on the third Friday of each month\, from 4pm-7pm. \nJoin today and begin receiving benefits like this\, and so much more right away!
URL:https://childrensmuseumofphoenix.org/event/members-only-extended-play-hours-2/2026-12-18/
LOCATION:Children’s Museum of Phoenix\, 215 N. 7th Street\, Phoenix\, AZ\, 85034\, United States
END:VEVENT
END:VCALENDAR