BEGIN:VCALENDAR
VERSION:2.0
PRODID:-//Children&#039;s Museum of Phoenix - ECPv6.15.20//NONSGML v1.0//EN
CALSCALE:GREGORIAN
METHOD:PUBLISH
X-WR-CALNAME:Children&#039;s Museum of Phoenix
X-ORIGINAL-URL:https://childrensmuseumofphoenix.org
X-WR-CALDESC:Events for Children&#039;s Museum of Phoenix
REFRESH-INTERVAL;VALUE=DURATION:PT1H
X-Robots-Tag:noindex
X-PUBLISHED-TTL:PT1H
BEGIN:VTIMEZONE
TZID:America/Phoenix
BEGIN:STANDARD
TZOFFSETFROM:-0700
TZOFFSETTO:-0700
TZNAME:MST
DTSTART:20250101T000000
END:STANDARD
END:VTIMEZONE
BEGIN:VEVENT
DTSTART;TZID=America/Phoenix:20260501T090000
DTEND;TZID=America/Phoenix:20260501T160000
DTSTAMP:20260422T045053
CREATED:20260421T220513Z
LAST-MODIFIED:20260421T220513Z
UID:10023673-1777626000-1777651200@childrensmuseumofphoenix.org
SUMMARY:Weaving Discovery Station
DESCRIPTION:It’s May-ker Month at the Children’s Museum! Drop by the Star Bar on the 2nd floor and dive into hands-on\, tactile fun at our pop-up Weaving Discovery Station! Explore different weaving techniques\, experiment with looms\, braid and unravel\, lace up geoboards\, and even weave colorful designs onto metal sphere structures. What will you create?
URL:https://childrensmuseumofphoenix.org/event/weaving-discovery-station/2026-05-01/
LOCATION:Children’s Museum of Phoenix\, 215 N. 7th Street\, Phoenix\, AZ\, 85034\, United States
END:VEVENT
BEGIN:VEVENT
DTSTART;TZID=America/Phoenix:20260502T090000
DTEND;TZID=America/Phoenix:20260502T160000
DTSTAMP:20260422T045053
CREATED:20260421T220513Z
LAST-MODIFIED:20260421T220513Z
UID:10023674-1777712400-1777737600@childrensmuseumofphoenix.org
SUMMARY:Weaving Discovery Station
DESCRIPTION:It’s May-ker Month at the Children’s Museum! Drop by the Star Bar on the 2nd floor and dive into hands-on\, tactile fun at our pop-up Weaving Discovery Station! Explore different weaving techniques\, experiment with looms\, braid and unravel\, lace up geoboards\, and even weave colorful designs onto metal sphere structures. What will you create?
URL:https://childrensmuseumofphoenix.org/event/weaving-discovery-station/2026-05-02/
LOCATION:Children’s Museum of Phoenix\, 215 N. 7th Street\, Phoenix\, AZ\, 85034\, United States
END:VEVENT
BEGIN:VEVENT
DTSTART;TZID=America/Phoenix:20260503T090000
DTEND;TZID=America/Phoenix:20260503T160000
DTSTAMP:20260422T045053
CREATED:20260421T220513Z
LAST-MODIFIED:20260421T220513Z
UID:10023675-1777798800-1777824000@childrensmuseumofphoenix.org
SUMMARY:Weaving Discovery Station
DESCRIPTION:It’s May-ker Month at the Children’s Museum! Drop by the Star Bar on the 2nd floor and dive into hands-on\, tactile fun at our pop-up Weaving Discovery Station! Explore different weaving techniques\, experiment with looms\, braid and unravel\, lace up geoboards\, and even weave colorful designs onto metal sphere structures. What will you create?
URL:https://childrensmuseumofphoenix.org/event/weaving-discovery-station/2026-05-03/
LOCATION:Children’s Museum of Phoenix\, 215 N. 7th Street\, Phoenix\, AZ\, 85034\, United States
END:VEVENT
BEGIN:VEVENT
DTSTART;TZID=America/Phoenix:20260505T090000
DTEND;TZID=America/Phoenix:20260505T160000
DTSTAMP:20260422T045053
CREATED:20260421T220513Z
LAST-MODIFIED:20260421T220513Z
UID:10023676-1777971600-1777996800@childrensmuseumofphoenix.org
SUMMARY:Weaving Discovery Station
DESCRIPTION:It’s May-ker Month at the Children’s Museum! Drop by the Star Bar on the 2nd floor and dive into hands-on\, tactile fun at our pop-up Weaving Discovery Station! Explore different weaving techniques\, experiment with looms\, braid and unravel\, lace up geoboards\, and even weave colorful designs onto metal sphere structures. What will you create?
URL:https://childrensmuseumofphoenix.org/event/weaving-discovery-station/2026-05-05/
LOCATION:Children’s Museum of Phoenix\, 215 N. 7th Street\, Phoenix\, AZ\, 85034\, United States
END:VEVENT
BEGIN:VEVENT
DTSTART;TZID=America/Phoenix:20260506T090000
DTEND;TZID=America/Phoenix:20260506T160000
DTSTAMP:20260422T045053
CREATED:20260421T220513Z
LAST-MODIFIED:20260421T220513Z
UID:10023677-1778058000-1778083200@childrensmuseumofphoenix.org
SUMMARY:Weaving Discovery Station
DESCRIPTION:It’s May-ker Month at the Children’s Museum! Drop by the Star Bar on the 2nd floor and dive into hands-on\, tactile fun at our pop-up Weaving Discovery Station! Explore different weaving techniques\, experiment with looms\, braid and unravel\, lace up geoboards\, and even weave colorful designs onto metal sphere structures. What will you create?
URL:https://childrensmuseumofphoenix.org/event/weaving-discovery-station/2026-05-06/
LOCATION:Children’s Museum of Phoenix\, 215 N. 7th Street\, Phoenix\, AZ\, 85034\, United States
END:VEVENT
BEGIN:VEVENT
DTSTART;TZID=America/Phoenix:20260507T090000
DTEND;TZID=America/Phoenix:20260507T160000
DTSTAMP:20260422T045053
CREATED:20260421T220513Z
LAST-MODIFIED:20260421T220513Z
UID:10023678-1778144400-1778169600@childrensmuseumofphoenix.org
SUMMARY:Weaving Discovery Station
DESCRIPTION:It’s May-ker Month at the Children’s Museum! Drop by the Star Bar on the 2nd floor and dive into hands-on\, tactile fun at our pop-up Weaving Discovery Station! Explore different weaving techniques\, experiment with looms\, braid and unravel\, lace up geoboards\, and even weave colorful designs onto metal sphere structures. What will you create?
URL:https://childrensmuseumofphoenix.org/event/weaving-discovery-station/2026-05-07/
LOCATION:Children’s Museum of Phoenix\, 215 N. 7th Street\, Phoenix\, AZ\, 85034\, United States
END:VEVENT
BEGIN:VEVENT
DTSTART;TZID=America/Phoenix:20260508T090000
DTEND;TZID=America/Phoenix:20260508T160000
DTSTAMP:20260422T045053
CREATED:20260421T220513Z
LAST-MODIFIED:20260421T220513Z
UID:10023679-1778230800-1778256000@childrensmuseumofphoenix.org
SUMMARY:Weaving Discovery Station
DESCRIPTION:It’s May-ker Month at the Children’s Museum! Drop by the Star Bar on the 2nd floor and dive into hands-on\, tactile fun at our pop-up Weaving Discovery Station! Explore different weaving techniques\, experiment with looms\, braid and unravel\, lace up geoboards\, and even weave colorful designs onto metal sphere structures. What will you create?
URL:https://childrensmuseumofphoenix.org/event/weaving-discovery-station/2026-05-08/
LOCATION:Children’s Museum of Phoenix\, 215 N. 7th Street\, Phoenix\, AZ\, 85034\, United States
END:VEVENT
BEGIN:VEVENT
DTSTART;TZID=America/Phoenix:20260509T090000
DTEND;TZID=America/Phoenix:20260509T160000
DTSTAMP:20260422T045053
CREATED:20260421T220513Z
LAST-MODIFIED:20260421T220513Z
UID:10023680-1778317200-1778342400@childrensmuseumofphoenix.org
SUMMARY:Weaving Discovery Station
DESCRIPTION:It’s May-ker Month at the Children’s Museum! Drop by the Star Bar on the 2nd floor and dive into hands-on\, tactile fun at our pop-up Weaving Discovery Station! Explore different weaving techniques\, experiment with looms\, braid and unravel\, lace up geoboards\, and even weave colorful designs onto metal sphere structures. What will you create?
URL:https://childrensmuseumofphoenix.org/event/weaving-discovery-station/2026-05-09/
LOCATION:Children’s Museum of Phoenix\, 215 N. 7th Street\, Phoenix\, AZ\, 85034\, United States
END:VEVENT
BEGIN:VEVENT
DTSTART;TZID=America/Phoenix:20260510T090000
DTEND;TZID=America/Phoenix:20260510T160000
DTSTAMP:20260422T045053
CREATED:20260421T220513Z
LAST-MODIFIED:20260421T220513Z
UID:10023681-1778403600-1778428800@childrensmuseumofphoenix.org
SUMMARY:Weaving Discovery Station
DESCRIPTION:It’s May-ker Month at the Children’s Museum! Drop by the Star Bar on the 2nd floor and dive into hands-on\, tactile fun at our pop-up Weaving Discovery Station! Explore different weaving techniques\, experiment with looms\, braid and unravel\, lace up geoboards\, and even weave colorful designs onto metal sphere structures. What will you create?
URL:https://childrensmuseumofphoenix.org/event/weaving-discovery-station/2026-05-10/
LOCATION:Children’s Museum of Phoenix\, 215 N. 7th Street\, Phoenix\, AZ\, 85034\, United States
END:VEVENT
BEGIN:VEVENT
DTSTART;TZID=America/Phoenix:20260512T090000
DTEND;TZID=America/Phoenix:20260512T160000
DTSTAMP:20260422T045053
CREATED:20260421T220513Z
LAST-MODIFIED:20260421T220513Z
UID:10023682-1778576400-1778601600@childrensmuseumofphoenix.org
SUMMARY:Weaving Discovery Station
DESCRIPTION:It’s May-ker Month at the Children’s Museum! Drop by the Star Bar on the 2nd floor and dive into hands-on\, tactile fun at our pop-up Weaving Discovery Station! Explore different weaving techniques\, experiment with looms\, braid and unravel\, lace up geoboards\, and even weave colorful designs onto metal sphere structures. What will you create?
URL:https://childrensmuseumofphoenix.org/event/weaving-discovery-station/2026-05-12/
LOCATION:Children’s Museum of Phoenix\, 215 N. 7th Street\, Phoenix\, AZ\, 85034\, United States
END:VEVENT
BEGIN:VEVENT
DTSTART;TZID=America/Phoenix:20260513T090000
DTEND;TZID=America/Phoenix:20260513T160000
DTSTAMP:20260422T045053
CREATED:20260421T220513Z
LAST-MODIFIED:20260421T220513Z
UID:10023683-1778662800-1778688000@childrensmuseumofphoenix.org
SUMMARY:Weaving Discovery Station
DESCRIPTION:It’s May-ker Month at the Children’s Museum! Drop by the Star Bar on the 2nd floor and dive into hands-on\, tactile fun at our pop-up Weaving Discovery Station! Explore different weaving techniques\, experiment with looms\, braid and unravel\, lace up geoboards\, and even weave colorful designs onto metal sphere structures. What will you create?
URL:https://childrensmuseumofphoenix.org/event/weaving-discovery-station/2026-05-13/
LOCATION:Children’s Museum of Phoenix\, 215 N. 7th Street\, Phoenix\, AZ\, 85034\, United States
END:VEVENT
BEGIN:VEVENT
DTSTART;TZID=America/Phoenix:20260514T090000
DTEND;TZID=America/Phoenix:20260514T160000
DTSTAMP:20260422T045053
CREATED:20260421T220513Z
LAST-MODIFIED:20260421T220513Z
UID:10023684-1778749200-1778774400@childrensmuseumofphoenix.org
SUMMARY:Weaving Discovery Station
DESCRIPTION:It’s May-ker Month at the Children’s Museum! Drop by the Star Bar on the 2nd floor and dive into hands-on\, tactile fun at our pop-up Weaving Discovery Station! Explore different weaving techniques\, experiment with looms\, braid and unravel\, lace up geoboards\, and even weave colorful designs onto metal sphere structures. What will you create?
URL:https://childrensmuseumofphoenix.org/event/weaving-discovery-station/2026-05-14/
LOCATION:Children’s Museum of Phoenix\, 215 N. 7th Street\, Phoenix\, AZ\, 85034\, United States
END:VEVENT
BEGIN:VEVENT
DTSTART;TZID=America/Phoenix:20260515T090000
DTEND;TZID=America/Phoenix:20260515T160000
DTSTAMP:20260422T045053
CREATED:20260421T220513Z
LAST-MODIFIED:20260421T220513Z
UID:10023685-1778835600-1778860800@childrensmuseumofphoenix.org
SUMMARY:Weaving Discovery Station
DESCRIPTION:It’s May-ker Month at the Children’s Museum! Drop by the Star Bar on the 2nd floor and dive into hands-on\, tactile fun at our pop-up Weaving Discovery Station! Explore different weaving techniques\, experiment with looms\, braid and unravel\, lace up geoboards\, and even weave colorful designs onto metal sphere structures. What will you create?
URL:https://childrensmuseumofphoenix.org/event/weaving-discovery-station/2026-05-15/
LOCATION:Children’s Museum of Phoenix\, 215 N. 7th Street\, Phoenix\, AZ\, 85034\, United States
END:VEVENT
BEGIN:VEVENT
DTSTART;TZID=America/Phoenix:20260516T090000
DTEND;TZID=America/Phoenix:20260516T160000
DTSTAMP:20260422T045053
CREATED:20260421T220513Z
LAST-MODIFIED:20260421T220513Z
UID:10023686-1778922000-1778947200@childrensmuseumofphoenix.org
SUMMARY:Weaving Discovery Station
DESCRIPTION:It’s May-ker Month at the Children’s Museum! Drop by the Star Bar on the 2nd floor and dive into hands-on\, tactile fun at our pop-up Weaving Discovery Station! Explore different weaving techniques\, experiment with looms\, braid and unravel\, lace up geoboards\, and even weave colorful designs onto metal sphere structures. What will you create?
URL:https://childrensmuseumofphoenix.org/event/weaving-discovery-station/2026-05-16/
LOCATION:Children’s Museum of Phoenix\, 215 N. 7th Street\, Phoenix\, AZ\, 85034\, United States
END:VEVENT
BEGIN:VEVENT
DTSTART;TZID=America/Phoenix:20260517T090000
DTEND;TZID=America/Phoenix:20260517T160000
DTSTAMP:20260422T045053
CREATED:20260421T220513Z
LAST-MODIFIED:20260421T220513Z
UID:10023687-1779008400-1779033600@childrensmuseumofphoenix.org
SUMMARY:Weaving Discovery Station
DESCRIPTION:It’s May-ker Month at the Children’s Museum! Drop by the Star Bar on the 2nd floor and dive into hands-on\, tactile fun at our pop-up Weaving Discovery Station! Explore different weaving techniques\, experiment with looms\, braid and unravel\, lace up geoboards\, and even weave colorful designs onto metal sphere structures. What will you create?
URL:https://childrensmuseumofphoenix.org/event/weaving-discovery-station/2026-05-17/
LOCATION:Children’s Museum of Phoenix\, 215 N. 7th Street\, Phoenix\, AZ\, 85034\, United States
END:VEVENT
BEGIN:VEVENT
DTSTART;TZID=America/Phoenix:20260519T090000
DTEND;TZID=America/Phoenix:20260519T160000
DTSTAMP:20260422T045053
CREATED:20260421T220513Z
LAST-MODIFIED:20260421T220513Z
UID:10023688-1779181200-1779206400@childrensmuseumofphoenix.org
SUMMARY:Weaving Discovery Station
DESCRIPTION:It’s May-ker Month at the Children’s Museum! Drop by the Star Bar on the 2nd floor and dive into hands-on\, tactile fun at our pop-up Weaving Discovery Station! Explore different weaving techniques\, experiment with looms\, braid and unravel\, lace up geoboards\, and even weave colorful designs onto metal sphere structures. What will you create?
URL:https://childrensmuseumofphoenix.org/event/weaving-discovery-station/2026-05-19/
LOCATION:Children’s Museum of Phoenix\, 215 N. 7th Street\, Phoenix\, AZ\, 85034\, United States
END:VEVENT
BEGIN:VEVENT
DTSTART;TZID=America/Phoenix:20260520T090000
DTEND;TZID=America/Phoenix:20260520T160000
DTSTAMP:20260422T045053
CREATED:20260421T220513Z
LAST-MODIFIED:20260421T220513Z
UID:10023689-1779267600-1779292800@childrensmuseumofphoenix.org
SUMMARY:Weaving Discovery Station
DESCRIPTION:It’s May-ker Month at the Children’s Museum! Drop by the Star Bar on the 2nd floor and dive into hands-on\, tactile fun at our pop-up Weaving Discovery Station! Explore different weaving techniques\, experiment with looms\, braid and unravel\, lace up geoboards\, and even weave colorful designs onto metal sphere structures. What will you create?
URL:https://childrensmuseumofphoenix.org/event/weaving-discovery-station/2026-05-20/
LOCATION:Children’s Museum of Phoenix\, 215 N. 7th Street\, Phoenix\, AZ\, 85034\, United States
END:VEVENT
BEGIN:VEVENT
DTSTART;TZID=America/Phoenix:20260521T090000
DTEND;TZID=America/Phoenix:20260521T160000
DTSTAMP:20260422T045053
CREATED:20260421T220513Z
LAST-MODIFIED:20260421T220513Z
UID:10023690-1779354000-1779379200@childrensmuseumofphoenix.org
SUMMARY:Weaving Discovery Station
DESCRIPTION:It’s May-ker Month at the Children’s Museum! Drop by the Star Bar on the 2nd floor and dive into hands-on\, tactile fun at our pop-up Weaving Discovery Station! Explore different weaving techniques\, experiment with looms\, braid and unravel\, lace up geoboards\, and even weave colorful designs onto metal sphere structures. What will you create?
URL:https://childrensmuseumofphoenix.org/event/weaving-discovery-station/2026-05-21/
LOCATION:Children’s Museum of Phoenix\, 215 N. 7th Street\, Phoenix\, AZ\, 85034\, United States
END:VEVENT
BEGIN:VEVENT
DTSTART;TZID=America/Phoenix:20260522T090000
DTEND;TZID=America/Phoenix:20260522T160000
DTSTAMP:20260422T045053
CREATED:20260421T220513Z
LAST-MODIFIED:20260421T220513Z
UID:10023691-1779440400-1779465600@childrensmuseumofphoenix.org
SUMMARY:Weaving Discovery Station
DESCRIPTION:It’s May-ker Month at the Children’s Museum! Drop by the Star Bar on the 2nd floor and dive into hands-on\, tactile fun at our pop-up Weaving Discovery Station! Explore different weaving techniques\, experiment with looms\, braid and unravel\, lace up geoboards\, and even weave colorful designs onto metal sphere structures. What will you create?
URL:https://childrensmuseumofphoenix.org/event/weaving-discovery-station/2026-05-22/
LOCATION:Children’s Museum of Phoenix\, 215 N. 7th Street\, Phoenix\, AZ\, 85034\, United States
END:VEVENT
BEGIN:VEVENT
DTSTART;TZID=America/Phoenix:20260523T090000
DTEND;TZID=America/Phoenix:20260523T160000
DTSTAMP:20260422T045053
CREATED:20260421T220513Z
LAST-MODIFIED:20260421T220513Z
UID:10023692-1779526800-1779552000@childrensmuseumofphoenix.org
SUMMARY:Weaving Discovery Station
DESCRIPTION:It’s May-ker Month at the Children’s Museum! Drop by the Star Bar on the 2nd floor and dive into hands-on\, tactile fun at our pop-up Weaving Discovery Station! Explore different weaving techniques\, experiment with looms\, braid and unravel\, lace up geoboards\, and even weave colorful designs onto metal sphere structures. What will you create?
URL:https://childrensmuseumofphoenix.org/event/weaving-discovery-station/2026-05-23/
LOCATION:Children’s Museum of Phoenix\, 215 N. 7th Street\, Phoenix\, AZ\, 85034\, United States
END:VEVENT
BEGIN:VEVENT
DTSTART;TZID=America/Phoenix:20260524T090000
DTEND;TZID=America/Phoenix:20260524T160000
DTSTAMP:20260422T045053
CREATED:20260421T220513Z
LAST-MODIFIED:20260421T220513Z
UID:10023693-1779613200-1779638400@childrensmuseumofphoenix.org
SUMMARY:Weaving Discovery Station
DESCRIPTION:It’s May-ker Month at the Children’s Museum! Drop by the Star Bar on the 2nd floor and dive into hands-on\, tactile fun at our pop-up Weaving Discovery Station! Explore different weaving techniques\, experiment with looms\, braid and unravel\, lace up geoboards\, and even weave colorful designs onto metal sphere structures. What will you create?
URL:https://childrensmuseumofphoenix.org/event/weaving-discovery-station/2026-05-24/
LOCATION:Children’s Museum of Phoenix\, 215 N. 7th Street\, Phoenix\, AZ\, 85034\, United States
END:VEVENT
BEGIN:VEVENT
DTSTART;TZID=America/Phoenix:20260525T090000
DTEND;TZID=America/Phoenix:20260525T160000
DTSTAMP:20260422T045053
CREATED:20260421T220513Z
LAST-MODIFIED:20260421T220513Z
UID:10023694-1779699600-1779724800@childrensmuseumofphoenix.org
SUMMARY:Weaving Discovery Station
DESCRIPTION:It’s May-ker Month at the Children’s Museum! Drop by the Star Bar on the 2nd floor and dive into hands-on\, tactile fun at our pop-up Weaving Discovery Station! Explore different weaving techniques\, experiment with looms\, braid and unravel\, lace up geoboards\, and even weave colorful designs onto metal sphere structures. What will you create?
URL:https://childrensmuseumofphoenix.org/event/weaving-discovery-station/2026-05-25/
LOCATION:Children’s Museum of Phoenix\, 215 N. 7th Street\, Phoenix\, AZ\, 85034\, United States
END:VEVENT
BEGIN:VEVENT
DTSTART;TZID=America/Phoenix:20260526T090000
DTEND;TZID=America/Phoenix:20260526T160000
DTSTAMP:20260422T045053
CREATED:20260421T220513Z
LAST-MODIFIED:20260421T220513Z
UID:10023695-1779786000-1779811200@childrensmuseumofphoenix.org
SUMMARY:Weaving Discovery Station
DESCRIPTION:It’s May-ker Month at the Children’s Museum! Drop by the Star Bar on the 2nd floor and dive into hands-on\, tactile fun at our pop-up Weaving Discovery Station! Explore different weaving techniques\, experiment with looms\, braid and unravel\, lace up geoboards\, and even weave colorful designs onto metal sphere structures. What will you create?
URL:https://childrensmuseumofphoenix.org/event/weaving-discovery-station/2026-05-26/
LOCATION:Children’s Museum of Phoenix\, 215 N. 7th Street\, Phoenix\, AZ\, 85034\, United States
END:VEVENT
BEGIN:VEVENT
DTSTART;TZID=America/Phoenix:20260527T090000
DTEND;TZID=America/Phoenix:20260527T160000
DTSTAMP:20260422T045053
CREATED:20260421T220513Z
LAST-MODIFIED:20260421T220513Z
UID:10023696-1779872400-1779897600@childrensmuseumofphoenix.org
SUMMARY:Weaving Discovery Station
DESCRIPTION:It’s May-ker Month at the Children’s Museum! Drop by the Star Bar on the 2nd floor and dive into hands-on\, tactile fun at our pop-up Weaving Discovery Station! Explore different weaving techniques\, experiment with looms\, braid and unravel\, lace up geoboards\, and even weave colorful designs onto metal sphere structures. What will you create?
URL:https://childrensmuseumofphoenix.org/event/weaving-discovery-station/2026-05-27/
LOCATION:Children’s Museum of Phoenix\, 215 N. 7th Street\, Phoenix\, AZ\, 85034\, United States
END:VEVENT
BEGIN:VEVENT
DTSTART;TZID=America/Phoenix:20260528T090000
DTEND;TZID=America/Phoenix:20260528T160000
DTSTAMP:20260422T045053
CREATED:20260421T220513Z
LAST-MODIFIED:20260421T220513Z
UID:10023697-1779958800-1779984000@childrensmuseumofphoenix.org
SUMMARY:Weaving Discovery Station
DESCRIPTION:It’s May-ker Month at the Children’s Museum! Drop by the Star Bar on the 2nd floor and dive into hands-on\, tactile fun at our pop-up Weaving Discovery Station! Explore different weaving techniques\, experiment with looms\, braid and unravel\, lace up geoboards\, and even weave colorful designs onto metal sphere structures. What will you create?
URL:https://childrensmuseumofphoenix.org/event/weaving-discovery-station/2026-05-28/
LOCATION:Children’s Museum of Phoenix\, 215 N. 7th Street\, Phoenix\, AZ\, 85034\, United States
END:VEVENT
BEGIN:VEVENT
DTSTART;TZID=America/Phoenix:20260529T090000
DTEND;TZID=America/Phoenix:20260529T160000
DTSTAMP:20260422T045053
CREATED:20260421T220513Z
LAST-MODIFIED:20260421T220513Z
UID:10023698-1780045200-1780070400@childrensmuseumofphoenix.org
SUMMARY:Weaving Discovery Station
DESCRIPTION:It’s May-ker Month at the Children’s Museum! Drop by the Star Bar on the 2nd floor and dive into hands-on\, tactile fun at our pop-up Weaving Discovery Station! Explore different weaving techniques\, experiment with looms\, braid and unravel\, lace up geoboards\, and even weave colorful designs onto metal sphere structures. What will you create?
URL:https://childrensmuseumofphoenix.org/event/weaving-discovery-station/2026-05-29/
LOCATION:Children’s Museum of Phoenix\, 215 N. 7th Street\, Phoenix\, AZ\, 85034\, United States
END:VEVENT
BEGIN:VEVENT
DTSTART;TZID=America/Phoenix:20260530T090000
DTEND;TZID=America/Phoenix:20260530T160000
DTSTAMP:20260422T045053
CREATED:20260421T220513Z
LAST-MODIFIED:20260421T220513Z
UID:10023699-1780131600-1780156800@childrensmuseumofphoenix.org
SUMMARY:Weaving Discovery Station
DESCRIPTION:It’s May-ker Month at the Children’s Museum! Drop by the Star Bar on the 2nd floor and dive into hands-on\, tactile fun at our pop-up Weaving Discovery Station! Explore different weaving techniques\, experiment with looms\, braid and unravel\, lace up geoboards\, and even weave colorful designs onto metal sphere structures. What will you create?
URL:https://childrensmuseumofphoenix.org/event/weaving-discovery-station/2026-05-30/
LOCATION:Children’s Museum of Phoenix\, 215 N. 7th Street\, Phoenix\, AZ\, 85034\, United States
END:VEVENT
BEGIN:VEVENT
DTSTART;TZID=America/Phoenix:20260531T090000
DTEND;TZID=America/Phoenix:20260531T160000
DTSTAMP:20260422T045053
CREATED:20260421T220513Z
LAST-MODIFIED:20260421T220513Z
UID:10023700-1780218000-1780243200@childrensmuseumofphoenix.org
SUMMARY:Weaving Discovery Station
DESCRIPTION:It’s May-ker Month at the Children’s Museum! Drop by the Star Bar on the 2nd floor and dive into hands-on\, tactile fun at our pop-up Weaving Discovery Station! Explore different weaving techniques\, experiment with looms\, braid and unravel\, lace up geoboards\, and even weave colorful designs onto metal sphere structures. What will you create?
URL:https://childrensmuseumofphoenix.org/event/weaving-discovery-station/2026-05-31/
LOCATION:Children’s Museum of Phoenix\, 215 N. 7th Street\, Phoenix\, AZ\, 85034\, United States
END:VEVENT
BEGIN:VEVENT
DTSTART;TZID=America/Phoenix:20260601T090000
DTEND;TZID=America/Phoenix:20260601T160000
DTSTAMP:20260422T045053
CREATED:20260421T220513Z
LAST-MODIFIED:20260421T220513Z
UID:10023701-1780304400-1780329600@childrensmuseumofphoenix.org
SUMMARY:Weaving Discovery Station
DESCRIPTION:It’s May-ker Month at the Children’s Museum! Drop by the Star Bar on the 2nd floor and dive into hands-on\, tactile fun at our pop-up Weaving Discovery Station! Explore different weaving techniques\, experiment with looms\, braid and unravel\, lace up geoboards\, and even weave colorful designs onto metal sphere structures. What will you create?
URL:https://childrensmuseumofphoenix.org/event/weaving-discovery-station/2026-06-01/
LOCATION:Children’s Museum of Phoenix\, 215 N. 7th Street\, Phoenix\, AZ\, 85034\, United States
END:VEVENT
BEGIN:VEVENT
DTSTART;TZID=America/Phoenix:20260602T090000
DTEND;TZID=America/Phoenix:20260602T160000
DTSTAMP:20260422T045053
CREATED:20260421T220513Z
LAST-MODIFIED:20260421T220513Z
UID:10023702-1780390800-1780416000@childrensmuseumofphoenix.org
SUMMARY:Weaving Discovery Station
DESCRIPTION:It’s May-ker Month at the Children’s Museum! Drop by the Star Bar on the 2nd floor and dive into hands-on\, tactile fun at our pop-up Weaving Discovery Station! Explore different weaving techniques\, experiment with looms\, braid and unravel\, lace up geoboards\, and even weave colorful designs onto metal sphere structures. What will you create?
URL:https://childrensmuseumofphoenix.org/event/weaving-discovery-station/2026-06-02/
LOCATION:Children’s Museum of Phoenix\, 215 N. 7th Street\, Phoenix\, AZ\, 85034\, United States
END:VEVENT
END:VCALENDAR