BEGIN:VCALENDAR
VERSION:2.0
PRODID:-//Children&#039;s Museum of Phoenix - ECPv6.15.20//NONSGML v1.0//EN
CALSCALE:GREGORIAN
METHOD:PUBLISH
X-WR-CALNAME:Children&#039;s Museum of Phoenix
X-ORIGINAL-URL:https://childrensmuseumofphoenix.org
X-WR-CALDESC:Events for Children&#039;s Museum of Phoenix
REFRESH-INTERVAL;VALUE=DURATION:PT1H
X-Robots-Tag:noindex
X-PUBLISHED-TTL:PT1H
BEGIN:VTIMEZONE
TZID:America/Phoenix
BEGIN:STANDARD
TZOFFSETFROM:-0700
TZOFFSETTO:-0700
TZNAME:MST
DTSTART:20250101T000000
END:STANDARD
END:VTIMEZONE
BEGIN:VEVENT
DTSTART;TZID=America/Phoenix:20260512T090000
DTEND;TZID=America/Phoenix:20260512T160000
DTSTAMP:20260423T160446
CREATED:20260422T201202Z
LAST-MODIFIED:20260422T214405Z
UID:10023718-1778576400-1778601600@childrensmuseumofphoenix.org
SUMMARY:Polka Dot Collage
DESCRIPTION:Be inspired by Yayoi Kusama as you make a “Polka Dot Collage!”
URL:https://childrensmuseumofphoenix.org/event/polka-dot-collage/2026-05-12/
LOCATION:Children’s Museum of Phoenix\, 215 N. 7th Street\, Phoenix\, AZ\, 85034\, United States
END:VEVENT
BEGIN:VEVENT
DTSTART;TZID=America/Phoenix:20260513T090000
DTEND;TZID=America/Phoenix:20260513T160000
DTSTAMP:20260423T160446
CREATED:20260422T201202Z
LAST-MODIFIED:20260422T214405Z
UID:10023719-1778662800-1778688000@childrensmuseumofphoenix.org
SUMMARY:Polka Dot Collage
DESCRIPTION:Be inspired by Yayoi Kusama as you make a “Polka Dot Collage!”
URL:https://childrensmuseumofphoenix.org/event/polka-dot-collage/2026-05-13/
LOCATION:Children’s Museum of Phoenix\, 215 N. 7th Street\, Phoenix\, AZ\, 85034\, United States
END:VEVENT
BEGIN:VEVENT
DTSTART;TZID=America/Phoenix:20260514T090000
DTEND;TZID=America/Phoenix:20260514T160000
DTSTAMP:20260423T160446
CREATED:20260422T201202Z
LAST-MODIFIED:20260422T214405Z
UID:10023720-1778749200-1778774400@childrensmuseumofphoenix.org
SUMMARY:Polka Dot Collage
DESCRIPTION:Be inspired by Yayoi Kusama as you make a “Polka Dot Collage!”
URL:https://childrensmuseumofphoenix.org/event/polka-dot-collage/2026-05-14/
LOCATION:Children’s Museum of Phoenix\, 215 N. 7th Street\, Phoenix\, AZ\, 85034\, United States
END:VEVENT
BEGIN:VEVENT
DTSTART;TZID=America/Phoenix:20260515T090000
DTEND;TZID=America/Phoenix:20260515T160000
DTSTAMP:20260423T160446
CREATED:20260422T201202Z
LAST-MODIFIED:20260422T214405Z
UID:10023721-1778835600-1778860800@childrensmuseumofphoenix.org
SUMMARY:Polka Dot Collage
DESCRIPTION:Be inspired by Yayoi Kusama as you make a “Polka Dot Collage!”
URL:https://childrensmuseumofphoenix.org/event/polka-dot-collage/2026-05-15/
LOCATION:Children’s Museum of Phoenix\, 215 N. 7th Street\, Phoenix\, AZ\, 85034\, United States
END:VEVENT
BEGIN:VEVENT
DTSTART;TZID=America/Phoenix:20260516T090000
DTEND;TZID=America/Phoenix:20260516T160000
DTSTAMP:20260423T160446
CREATED:20260422T201202Z
LAST-MODIFIED:20260422T214405Z
UID:10023722-1778922000-1778947200@childrensmuseumofphoenix.org
SUMMARY:Polka Dot Collage
DESCRIPTION:Be inspired by Yayoi Kusama as you make a “Polka Dot Collage!”
URL:https://childrensmuseumofphoenix.org/event/polka-dot-collage/2026-05-16/
LOCATION:Children’s Museum of Phoenix\, 215 N. 7th Street\, Phoenix\, AZ\, 85034\, United States
END:VEVENT
BEGIN:VEVENT
DTSTART;TZID=America/Phoenix:20260517T090000
DTEND;TZID=America/Phoenix:20260517T160000
DTSTAMP:20260423T160446
CREATED:20260422T201202Z
LAST-MODIFIED:20260422T214405Z
UID:10023723-1779008400-1779033600@childrensmuseumofphoenix.org
SUMMARY:Polka Dot Collage
DESCRIPTION:Be inspired by Yayoi Kusama as you make a “Polka Dot Collage!”
URL:https://childrensmuseumofphoenix.org/event/polka-dot-collage/2026-05-17/
LOCATION:Children’s Museum of Phoenix\, 215 N. 7th Street\, Phoenix\, AZ\, 85034\, United States
END:VEVENT
END:VCALENDAR