BEGIN:VCALENDAR
VERSION:2.0
PRODID:-//Children&#039;s Museum of Phoenix - ECPv6.15.20//NONSGML v1.0//EN
CALSCALE:GREGORIAN
METHOD:PUBLISH
X-WR-CALNAME:Children&#039;s Museum of Phoenix
X-ORIGINAL-URL:https://childrensmuseumofphoenix.org
X-WR-CALDESC:Events for Children&#039;s Museum of Phoenix
REFRESH-INTERVAL;VALUE=DURATION:PT1H
X-Robots-Tag:noindex
X-PUBLISHED-TTL:PT1H
BEGIN:VTIMEZONE
TZID:America/Phoenix
BEGIN:STANDARD
TZOFFSETFROM:-0700
TZOFFSETTO:-0700
TZNAME:MST
DTSTART:20250101T000000
END:STANDARD
END:VTIMEZONE
BEGIN:VEVENT
DTSTART;TZID=America/Phoenix:20260519T090000
DTEND;TZID=America/Phoenix:20260519T160000
DTSTAMP:20260423T173002
CREATED:20260422T201520Z
LAST-MODIFIED:20260422T214509Z
UID:10023725-1779181200-1779206400@childrensmuseumofphoenix.org
SUMMARY:Watercolor Snakes
DESCRIPTION:Discover the rich culture and history of the Chinese Zodiac while painting your own watercolor snake for 2026!
URL:https://childrensmuseumofphoenix.org/event/watercolor-snakes/2026-05-19/
LOCATION:Children’s Museum of Phoenix\, 215 N. 7th Street\, Phoenix\, AZ\, 85034\, United States
END:VEVENT
BEGIN:VEVENT
DTSTART;TZID=America/Phoenix:20260520T090000
DTEND;TZID=America/Phoenix:20260520T160000
DTSTAMP:20260423T173002
CREATED:20260422T201520Z
LAST-MODIFIED:20260422T214509Z
UID:10023726-1779267600-1779292800@childrensmuseumofphoenix.org
SUMMARY:Watercolor Snakes
DESCRIPTION:Discover the rich culture and history of the Chinese Zodiac while painting your own watercolor snake for 2026!
URL:https://childrensmuseumofphoenix.org/event/watercolor-snakes/2026-05-20/
LOCATION:Children’s Museum of Phoenix\, 215 N. 7th Street\, Phoenix\, AZ\, 85034\, United States
END:VEVENT
BEGIN:VEVENT
DTSTART;TZID=America/Phoenix:20260521T090000
DTEND;TZID=America/Phoenix:20260521T160000
DTSTAMP:20260423T173002
CREATED:20260422T201520Z
LAST-MODIFIED:20260422T214509Z
UID:10023727-1779354000-1779379200@childrensmuseumofphoenix.org
SUMMARY:Watercolor Snakes
DESCRIPTION:Discover the rich culture and history of the Chinese Zodiac while painting your own watercolor snake for 2026!
URL:https://childrensmuseumofphoenix.org/event/watercolor-snakes/2026-05-21/
LOCATION:Children’s Museum of Phoenix\, 215 N. 7th Street\, Phoenix\, AZ\, 85034\, United States
END:VEVENT
BEGIN:VEVENT
DTSTART;TZID=America/Phoenix:20260522T090000
DTEND;TZID=America/Phoenix:20260522T160000
DTSTAMP:20260423T173002
CREATED:20260422T201520Z
LAST-MODIFIED:20260422T214509Z
UID:10023728-1779440400-1779465600@childrensmuseumofphoenix.org
SUMMARY:Watercolor Snakes
DESCRIPTION:Discover the rich culture and history of the Chinese Zodiac while painting your own watercolor snake for 2026!
URL:https://childrensmuseumofphoenix.org/event/watercolor-snakes/2026-05-22/
LOCATION:Children’s Museum of Phoenix\, 215 N. 7th Street\, Phoenix\, AZ\, 85034\, United States
END:VEVENT
BEGIN:VEVENT
DTSTART;TZID=America/Phoenix:20260523T090000
DTEND;TZID=America/Phoenix:20260523T160000
DTSTAMP:20260423T173002
CREATED:20260422T201520Z
LAST-MODIFIED:20260422T214509Z
UID:10023729-1779526800-1779552000@childrensmuseumofphoenix.org
SUMMARY:Watercolor Snakes
DESCRIPTION:Discover the rich culture and history of the Chinese Zodiac while painting your own watercolor snake for 2026!
URL:https://childrensmuseumofphoenix.org/event/watercolor-snakes/2026-05-23/
LOCATION:Children’s Museum of Phoenix\, 215 N. 7th Street\, Phoenix\, AZ\, 85034\, United States
END:VEVENT
BEGIN:VEVENT
DTSTART;TZID=America/Phoenix:20260524T090000
DTEND;TZID=America/Phoenix:20260524T160000
DTSTAMP:20260423T173002
CREATED:20260422T201520Z
LAST-MODIFIED:20260422T214509Z
UID:10023730-1779613200-1779638400@childrensmuseumofphoenix.org
SUMMARY:Watercolor Snakes
DESCRIPTION:Discover the rich culture and history of the Chinese Zodiac while painting your own watercolor snake for 2026!
URL:https://childrensmuseumofphoenix.org/event/watercolor-snakes/2026-05-24/
LOCATION:Children’s Museum of Phoenix\, 215 N. 7th Street\, Phoenix\, AZ\, 85034\, United States
END:VEVENT
END:VCALENDAR