BEGIN:VCALENDAR
VERSION:2.0
PRODID:-//Children&#039;s Museum of Phoenix - ECPv6.15.20//NONSGML v1.0//EN
CALSCALE:GREGORIAN
METHOD:PUBLISH
X-WR-CALNAME:Children&#039;s Museum of Phoenix
X-ORIGINAL-URL:https://childrensmuseumofphoenix.org
X-WR-CALDESC:Events for Children&#039;s Museum of Phoenix
REFRESH-INTERVAL;VALUE=DURATION:PT1H
X-Robots-Tag:noindex
X-PUBLISHED-TTL:PT1H
BEGIN:VTIMEZONE
TZID:America/Phoenix
BEGIN:STANDARD
TZOFFSETFROM:-0700
TZOFFSETTO:-0700
TZNAME:MST
DTSTART:20250101T000000
END:STANDARD
END:VTIMEZONE
BEGIN:VEVENT
DTSTART;TZID=America/Phoenix:20260505T090000
DTEND;TZID=America/Phoenix:20260505T160000
DTSTAMP:20260423T112327
CREATED:20260422T203300Z
LAST-MODIFIED:20260422T214524Z
UID:10023741-1777971600-1777996800@childrensmuseumofphoenix.org
SUMMARY:Mother's Day Origami Flower Cards
DESCRIPTION:Create an origami flower card for that special person in your life!
URL:https://childrensmuseumofphoenix.org/event/mothers-day-origami-flower-cards/2026-05-05/
LOCATION:Children’s Museum of Phoenix\, 215 N. 7th Street\, Phoenix\, AZ\, 85034\, United States
END:VEVENT
BEGIN:VEVENT
DTSTART;TZID=America/Phoenix:20260506T090000
DTEND;TZID=America/Phoenix:20260506T160000
DTSTAMP:20260423T112327
CREATED:20260422T203300Z
LAST-MODIFIED:20260422T214524Z
UID:10023742-1778058000-1778083200@childrensmuseumofphoenix.org
SUMMARY:Mother's Day Origami Flower Cards
DESCRIPTION:Create an origami flower card for that special person in your life!
URL:https://childrensmuseumofphoenix.org/event/mothers-day-origami-flower-cards/2026-05-06/
LOCATION:Children’s Museum of Phoenix\, 215 N. 7th Street\, Phoenix\, AZ\, 85034\, United States
END:VEVENT
BEGIN:VEVENT
DTSTART;TZID=America/Phoenix:20260507T090000
DTEND;TZID=America/Phoenix:20260507T160000
DTSTAMP:20260423T112327
CREATED:20260422T203300Z
LAST-MODIFIED:20260422T214524Z
UID:10023743-1778144400-1778169600@childrensmuseumofphoenix.org
SUMMARY:Mother's Day Origami Flower Cards
DESCRIPTION:Create an origami flower card for that special person in your life!
URL:https://childrensmuseumofphoenix.org/event/mothers-day-origami-flower-cards/2026-05-07/
LOCATION:Children’s Museum of Phoenix\, 215 N. 7th Street\, Phoenix\, AZ\, 85034\, United States
END:VEVENT
BEGIN:VEVENT
DTSTART;TZID=America/Phoenix:20260508T090000
DTEND;TZID=America/Phoenix:20260508T160000
DTSTAMP:20260423T112327
CREATED:20260422T203300Z
LAST-MODIFIED:20260422T214524Z
UID:10023744-1778230800-1778256000@childrensmuseumofphoenix.org
SUMMARY:Mother's Day Origami Flower Cards
DESCRIPTION:Create an origami flower card for that special person in your life!
URL:https://childrensmuseumofphoenix.org/event/mothers-day-origami-flower-cards/2026-05-08/
LOCATION:Children’s Museum of Phoenix\, 215 N. 7th Street\, Phoenix\, AZ\, 85034\, United States
END:VEVENT
BEGIN:VEVENT
DTSTART;TZID=America/Phoenix:20260509T090000
DTEND;TZID=America/Phoenix:20260509T160000
DTSTAMP:20260423T112327
CREATED:20260422T203300Z
LAST-MODIFIED:20260422T214524Z
UID:10023745-1778317200-1778342400@childrensmuseumofphoenix.org
SUMMARY:Mother's Day Origami Flower Cards
DESCRIPTION:Create an origami flower card for that special person in your life!
URL:https://childrensmuseumofphoenix.org/event/mothers-day-origami-flower-cards/2026-05-09/
LOCATION:Children’s Museum of Phoenix\, 215 N. 7th Street\, Phoenix\, AZ\, 85034\, United States
END:VEVENT
BEGIN:VEVENT
DTSTART;TZID=America/Phoenix:20260510T090000
DTEND;TZID=America/Phoenix:20260510T160000
DTSTAMP:20260423T112327
CREATED:20260422T203300Z
LAST-MODIFIED:20260422T214524Z
UID:10023746-1778403600-1778428800@childrensmuseumofphoenix.org
SUMMARY:Mother's Day Origami Flower Cards
DESCRIPTION:Create an origami flower card for that special person in your life!
URL:https://childrensmuseumofphoenix.org/event/mothers-day-origami-flower-cards/2026-05-10/
LOCATION:Children’s Museum of Phoenix\, 215 N. 7th Street\, Phoenix\, AZ\, 85034\, United States
END:VEVENT
END:VCALENDAR