BEGIN:VCALENDAR
VERSION:2.0
PRODID:-//Children&#039;s Museum of Phoenix - ECPv6.15.20//NONSGML v1.0//EN
CALSCALE:GREGORIAN
METHOD:PUBLISH
X-WR-CALNAME:Children&#039;s Museum of Phoenix
X-ORIGINAL-URL:https://childrensmuseumofphoenix.org
X-WR-CALDESC:Events for Children&#039;s Museum of Phoenix
REFRESH-INTERVAL;VALUE=DURATION:PT1H
X-Robots-Tag:noindex
X-PUBLISHED-TTL:PT1H
BEGIN:VTIMEZONE
TZID:America/Phoenix
BEGIN:STANDARD
TZOFFSETFROM:-0700
TZOFFSETTO:-0700
TZNAME:MST
DTSTART:20250101T000000
END:STANDARD
END:VTIMEZONE
BEGIN:VEVENT
DTSTART;TZID=America/Phoenix:20260506T100000
DTEND;TZID=America/Phoenix:20260506T120000
DTSTAMP:20260423T130020
CREATED:20260422T204934Z
LAST-MODIFIED:20260422T204934Z
UID:10023750-1778061600-1778068800@childrensmuseumofphoenix.org
SUMMARY:Early Connections
DESCRIPTION:Held in our cozy Under‑3 exhibit\, a program educator will be present to offer age‑appropriate provocations designed to spark curiosity\, invite exploration\, and support early development. This is a relaxed\, come‑as‑you‑are session. Drop in\, follow your child’s lead\, and enjoy a space where you can build social connections while they build early brain connections.
URL:https://childrensmuseumofphoenix.org/event/early-connections-4/2026-05-06/
LOCATION:Children’s Museum of Phoenix\, 215 N. 7th Street\, Phoenix\, AZ\, 85034\, United States
END:VEVENT
BEGIN:VEVENT
DTSTART;TZID=America/Phoenix:20260513T100000
DTEND;TZID=America/Phoenix:20260513T120000
DTSTAMP:20260423T130020
CREATED:20260422T204934Z
LAST-MODIFIED:20260422T204934Z
UID:10023751-1778666400-1778673600@childrensmuseumofphoenix.org
SUMMARY:Early Connections
DESCRIPTION:Held in our cozy Under‑3 exhibit\, a program educator will be present to offer age‑appropriate provocations designed to spark curiosity\, invite exploration\, and support early development. This is a relaxed\, come‑as‑you‑are session. Drop in\, follow your child’s lead\, and enjoy a space where you can build social connections while they build early brain connections.
URL:https://childrensmuseumofphoenix.org/event/early-connections-4/2026-05-13/
LOCATION:Children’s Museum of Phoenix\, 215 N. 7th Street\, Phoenix\, AZ\, 85034\, United States
END:VEVENT
BEGIN:VEVENT
DTSTART;TZID=America/Phoenix:20260520T100000
DTEND;TZID=America/Phoenix:20260520T120000
DTSTAMP:20260423T130020
CREATED:20260422T204934Z
LAST-MODIFIED:20260422T204934Z
UID:10023752-1779271200-1779278400@childrensmuseumofphoenix.org
SUMMARY:Early Connections
DESCRIPTION:Held in our cozy Under‑3 exhibit\, a program educator will be present to offer age‑appropriate provocations designed to spark curiosity\, invite exploration\, and support early development. This is a relaxed\, come‑as‑you‑are session. Drop in\, follow your child’s lead\, and enjoy a space where you can build social connections while they build early brain connections.
URL:https://childrensmuseumofphoenix.org/event/early-connections-4/2026-05-20/
LOCATION:Children’s Museum of Phoenix\, 215 N. 7th Street\, Phoenix\, AZ\, 85034\, United States
END:VEVENT
BEGIN:VEVENT
DTSTART;TZID=America/Phoenix:20260527T100000
DTEND;TZID=America/Phoenix:20260527T120000
DTSTAMP:20260423T130020
CREATED:20260422T204934Z
LAST-MODIFIED:20260422T204934Z
UID:10023753-1779876000-1779883200@childrensmuseumofphoenix.org
SUMMARY:Early Connections
DESCRIPTION:Held in our cozy Under‑3 exhibit\, a program educator will be present to offer age‑appropriate provocations designed to spark curiosity\, invite exploration\, and support early development. This is a relaxed\, come‑as‑you‑are session. Drop in\, follow your child’s lead\, and enjoy a space where you can build social connections while they build early brain connections.
URL:https://childrensmuseumofphoenix.org/event/early-connections-4/2026-05-27/
LOCATION:Children’s Museum of Phoenix\, 215 N. 7th Street\, Phoenix\, AZ\, 85034\, United States
END:VEVENT
END:VCALENDAR