BEGIN:VCALENDAR
VERSION:2.0
PRODID:-//Children&#039;s Museum of Phoenix - ECPv6.15.20//NONSGML v1.0//EN
CALSCALE:GREGORIAN
METHOD:PUBLISH
X-WR-CALNAME:Children&#039;s Museum of Phoenix
X-ORIGINAL-URL:https://childrensmuseumofphoenix.org
X-WR-CALDESC:Events for Children&#039;s Museum of Phoenix
REFRESH-INTERVAL;VALUE=DURATION:PT1H
X-Robots-Tag:noindex
X-PUBLISHED-TTL:PT1H
BEGIN:VTIMEZONE
TZID:America/Phoenix
BEGIN:STANDARD
TZOFFSETFROM:-0700
TZOFFSETTO:-0700
TZNAME:MST
DTSTART:20250101T000000
END:STANDARD
END:VTIMEZONE
BEGIN:VEVENT
DTSTART;TZID=America/Phoenix:20260508T130000
DTEND;TZID=America/Phoenix:20260508T150000
DTSTAMP:20260423T094232
CREATED:20260422T211511Z
LAST-MODIFIED:20260422T211511Z
UID:10023762-1778245200-1778252400@childrensmuseumofphoenix.org
SUMMARY:Tree Bolts
DESCRIPTION:Ever think to make art out of the bolts and washers and nuts you have in your home? Now you can! Join us as we use simple hardware to create trees and other designs. What will you try and make?
URL:https://childrensmuseumofphoenix.org/event/tree-bolts/2026-05-08/
LOCATION:Children’s Museum of Phoenix\, 215 N. 7th Street\, Phoenix\, AZ\, 85034\, United States
END:VEVENT
BEGIN:VEVENT
DTSTART;TZID=America/Phoenix:20260514T130000
DTEND;TZID=America/Phoenix:20260514T150000
DTSTAMP:20260423T094232
CREATED:20260422T211511Z
LAST-MODIFIED:20260422T211511Z
UID:10023763-1778763600-1778770800@childrensmuseumofphoenix.org
SUMMARY:Tree Bolts
DESCRIPTION:Ever think to make art out of the bolts and washers and nuts you have in your home? Now you can! Join us as we use simple hardware to create trees and other designs. What will you try and make?
URL:https://childrensmuseumofphoenix.org/event/tree-bolts/2026-05-14/
LOCATION:Children’s Museum of Phoenix\, 215 N. 7th Street\, Phoenix\, AZ\, 85034\, United States
END:VEVENT
BEGIN:VEVENT
DTSTART;TZID=America/Phoenix:20260529T100000
DTEND;TZID=America/Phoenix:20260529T120000
DTSTAMP:20260423T094232
CREATED:20260422T211511Z
LAST-MODIFIED:20260422T211511Z
UID:10023764-1780048800-1780056000@childrensmuseumofphoenix.org
SUMMARY:Tree Bolts
DESCRIPTION:Ever think to make art out of the bolts and washers and nuts you have in your home? Now you can! Join us as we use simple hardware to create trees and other designs. What will you try and make?
URL:https://childrensmuseumofphoenix.org/event/tree-bolts/2026-05-29/
LOCATION:Children’s Museum of Phoenix\, 215 N. 7th Street\, Phoenix\, AZ\, 85034\, United States
END:VEVENT
END:VCALENDAR